BEGIN:VCALENDAR
VERSION:2.0
PRODID:-//Sauvage Spectrum - ECPv6.15.20//NONSGML v1.0//EN
CALSCALE:GREGORIAN
METHOD:PUBLISH
X-WR-CALNAME:Sauvage Spectrum
X-ORIGINAL-URL:https://sauvagespectrum.com
X-WR-CALDESC:Events for Sauvage Spectrum
REFRESH-INTERVAL;VALUE=DURATION:PT1H
X-Robots-Tag:noindex
X-PUBLISHED-TTL:PT1H
BEGIN:VTIMEZONE
TZID:America/Denver
BEGIN:DAYLIGHT
TZOFFSETFROM:-0700
TZOFFSETTO:-0600
TZNAME:MDT
DTSTART:20230312T090000
END:DAYLIGHT
BEGIN:STANDARD
TZOFFSETFROM:-0600
TZOFFSETTO:-0700
TZNAME:MST
DTSTART:20231105T080000
END:STANDARD
BEGIN:DAYLIGHT
TZOFFSETFROM:-0700
TZOFFSETTO:-0600
TZNAME:MDT
DTSTART:20240310T090000
END:DAYLIGHT
BEGIN:STANDARD
TZOFFSETFROM:-0600
TZOFFSETTO:-0700
TZNAME:MST
DTSTART:20241103T080000
END:STANDARD
BEGIN:DAYLIGHT
TZOFFSETFROM:-0700
TZOFFSETTO:-0600
TZNAME:MDT
DTSTART:20250309T090000
END:DAYLIGHT
BEGIN:STANDARD
TZOFFSETFROM:-0600
TZOFFSETTO:-0700
TZNAME:MST
DTSTART:20251102T080000
END:STANDARD
END:VTIMEZONE
BEGIN:VEVENT
DTSTART;TZID=America/Denver:20240302T140000
DTEND;TZID=America/Denver:20240302T190000
DTSTAMP:20260423T113924
CREATED:20240216T010905Z
LAST-MODIFIED:20240216T010905Z
UID:2104-1709388000-1709406000@sauvagespectrum.com
SUMMARY:Crush Club Pick Up Party
DESCRIPTION:Our Devil’s Prey is currently resting in 4…that’s right FOUR different distillery’s Bourbon Barrels. When you pick up your wine club wine you also get a barrel tasting of all four barrels and pick your favorite!!! \n\n\nWe couldn’t sample our future Devil’s Prey withough pairing it with Delicious BBQ food! Psycho Pig with be out with us from 2-7pm and our Crush Club members get a plate on us!! \n\nAlso\, our friend Eric Kelly will have the live music rocking from 5-7pm \n  \nThis event is open to the public but only our members have access to the perks! \n  \nPLEASE RSVP ASAP TO michelle@sauvagespectrum.com
URL:https://sauvagespectrum.com/event/crush-club-pick-up-party/
LOCATION:Sauvage Spectrum\, 676 38 ¼ RD\, Palisade\, CO\, 81526\, United States
ATTACH;FMTTYPE=image/png:https://sauvagespectrum.com/wp-content/uploads/2024/02/Green-Beige-Modern-Minimal-Skincare-Email-Newsletter-1.png
END:VEVENT
END:VCALENDAR